BEGIN:VCALENDAR
VERSION:2.0
PRODID:-//Squarespace Inc/Squarespace 6//v6//EN
BEGIN:VEVENT
UID:5e324b736fd544780ffcb842@squarespace.com
DTSTAMP:20200130T032110Z
DTSTART:20200204T023000Z
DTEND:20200204T033000Z
SUMMARY:Time for Wellbeing Working Group Meeting
END:VEVENT
END:VCALENDAR
