BEGIN:VCALENDAR
VERSION:2.0
PRODID:-//Squarespace Inc/Squarespace 6//v6//EN
BEGIN:VEVENT
UID:5e324d0264c4842a2d5e3608@squarespace.com
DTSTAMP:20200130T033023Z
DTSTART:20200211T063000Z
DTEND:20200211T103000Z
SUMMARY:Resourceful Minds Community Workshop - Roxby Downs Community Hub
END:VEVENT
END:VCALENDAR
