BEGIN:VCALENDAR
VERSION:2.0
PRODID:-//Squarespace Inc/Squarespace 6//v6//EN
BEGIN:VEVENT
UID:5e324befd7315a3d73926e4d@squarespace.com
DTSTAMP:20200130T032627Z
DTSTART:20200210T023000Z
DTEND:20200210T063000Z
SUMMARY:Rural and Remote Mental Health - Site Safe Talk Workshop
END:VEVENT
END:VCALENDAR
