BEGIN:VCALENDAR
VERSION:2.0
PRODID:-//Squarespace Inc/Squarespace 6//v6//EN
BEGIN:VEVENT
UID:5d256e0a958b410001f24639@squarespace.com
DTSTAMP:20190710T044940Z
DTSTART:20190905T003000Z
DTEND:20190905T020000Z
SUMMARY:Jean Hailes Morning Tea
END:VEVENT
END:VCALENDAR
