BEGIN:VCALENDAR
VERSION:2.0
PRODID:-//Squarespace Inc/Squarespace 6//v6//EN
BEGIN:VEVENT
UID:5d256f3c077b6a000158e11c@squarespace.com
DTSTAMP:20190710T045448Z
DTSTART:20190831T060000Z
DTEND:20190831T090000Z
SUMMARY:Dads n Kids in partnership with Strengthening our Families and Arid 
 Recovery to register contact sarah.curtis@sa.gov.au
END:VEVENT
END:VCALENDAR
