BEGIN:VCALENDAR
VERSION:2.0
PRODID:-//Squarespace Inc/Squarespace 6//v6//EN
BEGIN:VEVENT
UID:5d06de359ad77a0001f79384@squarespace.com
DTSTAMP:20190710T045123Z
DTSTART:20190827T070000Z
DTEND:20190827T093000Z
SUMMARY:Think Tank for Community Stakeholders light dinner provided
END:VEVENT
END:VCALENDAR
