BEGIN:VCALENDAR
VERSION:2.0
PRODID:-//Squarespace Inc/Squarespace 6//v6//EN
BEGIN:VEVENT
UID:5d256d7ff0b261000197c946@squarespace.com
DTSTAMP:20190710T044734Z
DTSTART:20190822T083000Z
DTEND:20190822T103000Z
SUMMARY:Nature Play RD CCC &amp\; ELC to be held at Community Hub
END:VEVENT
END:VCALENDAR
