BEGIN:VCALENDAR
VERSION:2.0
PRODID:-//Squarespace Inc/Squarespace 6//v6//EN
BEGIN:VEVENT
UID:5d256c7f077b6a000158ba8e@squarespace.com
DTSTAMP:20190710T044326Z
DTSTART:20190730T003000Z
DTEND:20190730T023000Z
SUMMARY:PATS Room OD Quit Smoking session
END:VEVENT
END:VCALENDAR
