BEGIN:VCALENDAR
VERSION:2.0
PRODID:-//Squarespace Inc/Squarespace 6//v6//EN
BEGIN:VEVENT
UID:5d256d2aea774a0001d5a992@squarespace.com
DTSTAMP:20190710T044516Z
DTSTART:20190730T090000Z
DTEND:20190730T100000Z
SUMMARY:Football Training Quit session
END:VEVENT
END:VCALENDAR
