BEGIN:VCALENDAR
VERSION:2.0
PRODID:-//Squarespace Inc/Squarespace 6//v6//EN
BEGIN:VEVENT
UID:5d06dcc129384800015cfc4b@squarespace.com
DTSTAMP:20190710T045245Z
DTSTART:20190703T003000Z
DTEND:20190724T013000Z
SUMMARY:HEAL Program Contact Amanda to Register 0421616750
END:VEVENT
END:VCALENDAR
