BEGIN:VCALENDAR
VERSION:2.0
PRODID:-//Squarespace Inc/Squarespace 6//v6//EN
BEGIN:VEVENT
UID:5d06de8c3a7326000144030d@squarespace.com
DTSTAMP:20190617T002840Z
DTSTART:20190701T220000Z
DTEND:20190701T230000Z
SUMMARY:Working Group Meeting
END:VEVENT
END:VCALENDAR
