BEGIN:VCALENDAR
VERSION:2.0
PRODID:-//Squarespace Inc/Squarespace 6//v6//EN
BEGIN:VEVENT
UID:5d06da79d800ce000120395c@squarespace.com
DTSTAMP:20190617T001522Z
DTSTART:20190622T060000Z
DTEND:20190622T090000Z
SUMMARY:Dads n Kids Arid Recovery PM Sarah on Strengthening Our Families FB 
 page
END:VEVENT
END:VCALENDAR
