BEGIN:VCALENDAR
VERSION:2.0
PRODID:-//Squarespace Inc/Squarespace 6//v6//EN
BEGIN:VEVENT
UID:5d06d9b8ea1e4b0001e91027@squarespace.com
DTSTAMP:20190617T000926Z
DTSTART:20190618T003000Z
DTEND:20190618T023000Z
SUMMARY:NDIS Community Session
END:VEVENT
END:VCALENDAR
