BEGIN:VCALENDAR
VERSION:2.0
PRODID:-//Squarespace Inc/Squarespace 6//v6//EN
BEGIN:VEVENT
UID:5d06dbabe53ed50001232886@squarespace.com
DTSTAMP:20190617T002002Z
DTSTART:20190522T003000Z
DTEND:20190703T013000Z
SUMMARY:HEAL Program contact Amanda to register 0421616750
END:VEVENT
END:VCALENDAR
