BEGIN:VCALENDAR
VERSION:2.0
PRODID:-//Squarespace Inc/Squarespace 6//v6//EN
BEGIN:VEVENT
UID:5ca2b493ee6eb02efde80496@squarespace.com
DTSTAMP:20190402T010824Z
DTSTART:20190510T233000Z
DTEND:20190511T033000Z
SUMMARY:Happy Healthy Expo
END:VEVENT
END:VCALENDAR
