BEGIN:VCALENDAR
VERSION:2.0
PRODID:-//Squarespace Inc/Squarespace 6//v6//EN
BEGIN:VEVENT
UID:5ca2b51bf9619a0cc6a58bca@squarespace.com
DTSTAMP:20190402T010708Z
DTSTART:20190413T063000Z
DTEND:20190413T093000Z
SUMMARY:Dad's n Kid's @ Arid Recovery
END:VEVENT
END:VCALENDAR
