BEGIN:VCALENDAR
VERSION:2.0
PRODID:-//Squarespace Inc/Squarespace 6//v6//EN
BEGIN:VEVENT
UID:5d256e71be9cf300016f49f3@squarespace.com
DTSTAMP:20190710T045104Z
DTSTART:20191104T083000Z
DTEND:20191104T100000Z
SUMMARY:Goodsports/Time for Wellbeing Drug &amp\; Alcohol Session Supper pr
 ovided
END:VEVENT
END:VCALENDAR
