BEGIN:VCALENDAR
VERSION:2.0
PRODID:-//Squarespace Inc/Squarespace 6//v6//EN
BEGIN:VEVENT
UID:5b552c54575d1f8f7c09ceae@squarespace.com
DTSTAMP:20180723T011746Z
DTSTART:20180908T063000Z
DTEND:20180908T093000Z
SUMMARY:Dads n Kids Arid Recovery
END:VEVENT
END:VCALENDAR
