BEGIN:VCALENDAR
VERSION:2.0
PRODID:-//Squarespace Inc/Squarespace 6//v6//EN
BEGIN:VEVENT
UID:5b552ba903ce640bec9b66b0@squarespace.com
DTSTAMP:20180723T011520Z
DTSTART:20180906T003000Z
DTEND:20180906T020000Z
SUMMARY:Women’s Health morning tea Speaker TBC
GEO:40.720756;-74.000761
LOCATION:Community Hub
END:VEVENT
END:VCALENDAR
