BEGIN:VCALENDAR
VERSION:2.0
PRODID:-//Squarespace Inc/Squarespace 6//v6//EN
BEGIN:VEVENT
UID:5b552b312b6a280bdeeb9a17@squarespace.com
DTSTAMP:20180723T012519Z
DTSTART:20180831T063000Z
DTEND:20180901T003000Z
SUMMARY:Dad’s n Kids Glamping sleepover
GEO:40.720756;-74.000761
LOCATION:CYC
END:VEVENT
END:VCALENDAR
