BEGIN:VCALENDAR
VERSION:2.0
PRODID:-//Squarespace Inc/Squarespace 6//v6//EN
BEGIN:VEVENT
UID:5b552a6f575d1f8f7c098c00@squarespace.com
DTSTAMP:20180723T010946Z
DTSTART:20180816T220000Z
DTEND:20180816T230000Z
SUMMARY:Working Group meeting
GEO:40.720756;-74.000761
LOCATION:Community Hub
END:VEVENT
END:VCALENDAR
