BEGIN:VCALENDAR
VERSION:2.0
PRODID:-//Squarespace Inc/Squarespace 6//v6//EN
BEGIN:VEVENT
UID:5b55295c575d1f8f7c096586@squarespace.com
DTSTAMP:20180723T012324Z
DTSTART:20180816T003000Z
DTEND:20180816T020000Z
SUMMARY:Nutrition for Children
GEO:47.047765;-122.891828
LOCATION:Community Youth Centre
END:VEVENT
END:VCALENDAR
