BEGIN:VCALENDAR
VERSION:2.0
PRODID:-//Squarespace Inc/Squarespace 6//v6//EN
BEGIN:VEVENT
UID:5b5528538a922d868efbaca5@squarespace.com
DTSTAMP:20180723T010627Z
DTSTART:20180815T093000Z
DTEND:20180815T110000Z
SUMMARY:Community Nutrition for Children & Adults
GEO:40.720756;-74.000761
LOCATION:Dunes Cafe
END:VEVENT
END:VCALENDAR
