BEGIN:VCALENDAR
VERSION:2.0
PRODID:-//Squarespace Inc/Squarespace 6//v6//EN
BEGIN:VEVENT
UID:5a794146f9619ae7e8f80002@squarespace.com
DTSTAMP:20180206T054853Z
DTSTART:20180707T220000Z
DTEND:20180714T110000Z
SUMMARY:Diabetes Week
END:VEVENT
END:VCALENDAR
