BEGIN:VCALENDAR
VERSION:2.0
PRODID:-//Squarespace Inc/Squarespace 6//v6//EN
BEGIN:VEVENT
UID:5ad09cf9575d1fe016ce29ca@squarespace.com
DTSTAMP:20180413T120719Z
DTSTART:20180618T233000Z
DTEND:20180619T073000Z
SUMMARY:Stephanie Alexander Training Day\, invitation only
END:VEVENT
END:VCALENDAR
