BEGIN:VCALENDAR
VERSION:2.0
PRODID:-//Squarespace Inc/Squarespace 6//v6//EN
BEGIN:VEVENT
UID:5a793ff753450a749575222e@squarespace.com
DTSTAMP:20180206T054332Z
DTSTART:20180610T220000Z
DTEND:20180617T110000Z
SUMMARY:Men's Health Week
END:VEVENT
END:VCALENDAR
