BEGIN:VCALENDAR
VERSION:2.0
PRODID:-//Squarespace Inc/Squarespace 6//v6//EN
BEGIN:VEVENT
UID:5a793f659140b70aade87351@squarespace.com
DTSTAMP:20180206T054057Z
DTSTART:20180530T220000Z
DTEND:20180531T100000Z
SUMMARY:World No Tobacco Day
END:VEVENT
END:VCALENDAR
