BEGIN:VCALENDAR
VERSION:2.0
PRODID:-//Squarespace Inc/Squarespace 6//v6//EN
BEGIN:VEVENT
UID:5ad09c410e2e72f68a429749@squarespace.com
DTSTAMP:20180413T120432Z
DTSTART:20180524T010000Z
DTEND:20180524T020000Z
SUMMARY:Biggest  Morning tea Community Hub
END:VEVENT
END:VCALENDAR
