BEGIN:VCALENDAR
VERSION:2.0
PRODID:-//Squarespace Inc/Squarespace 6//v6//EN
BEGIN:VEVENT
UID:5a66fd5724a69492e7ccd185@squarespace.com
DTSTAMP:20180413T120048Z
DTSTART:20180514T093000Z
DTEND:20180514T113000Z
SUMMARY:Heath Black Community Event at Dunes Cafe
END:VEVENT
END:VCALENDAR
