BEGIN:VCALENDAR
VERSION:2.0
PRODID:-//Squarespace Inc/Squarespace 6//v6//EN
BEGIN:VEVENT
UID:5a793df1419202954df24e82@squarespace.com
DTSTAMP:20180206T053440Z
DTSTART:20180330T210000Z
DTEND:20180409T110000Z
SUMMARY:National Youth Week
END:VEVENT
END:VCALENDAR
