BEGIN:VCALENDAR
VERSION:2.0
PRODID:-//Squarespace Inc/Squarespace 6//v6//EN
BEGIN:VEVENT
UID:5a66fa990d92971bebd74eb0@squarespace.com
DTSTAMP:20180207T000955Z
DTSTART:20180204T213000Z
DTEND:20180204T223000Z
SUMMARY:Dads and Kids Information Morning - Postponed Event
END:VEVENT
END:VCALENDAR
