BEGIN:VCALENDAR
VERSION:2.0
PRODID:-//Squarespace Inc/Squarespace 6//v6//EN
BEGIN:VEVENT
UID:5a66fb200852299e79a4c07e@squarespace.com
DTSTAMP:20180123T091911Z
DTSTART:20180215T033000Z
DTEND:20180215T073000Z
SUMMARY:Rural Minds
END:VEVENT
END:VCALENDAR
