BEGIN:VCALENDAR
VERSION:2.0
PRODID:-//Squarespace Inc/Squarespace 6//v6//EN
BEGIN:VEVENT
UID:5a793d13e4966ba7c7f0bd27@squarespace.com
DTSTAMP:20180206T053001Z
DTSTART:20180211T203000Z
DTEND:20180216T093000Z
SUMMARY:Healthy Weight Week
END:VEVENT
END:VCALENDAR
