BEGIN:VCALENDAR
VERSION:2.0
PRODID:-//Squarespace Inc/Squarespace 6//v6//EN
BEGIN:VEVENT
UID:5a793d670d92973619e7e03a@squarespace.com
DTSTAMP:20180206T053150Z
DTSTART:20180211T210000Z
DTEND:20180212T100000Z
SUMMARY:Fabulous Figures
END:VEVENT
END:VCALENDAR
