BEGIN:VCALENDAR
VERSION:2.0
PRODID:-//Squarespace Inc/Squarespace 6//v6//EN
BEGIN:VEVENT
UID:5b552cec8a922d868efc5078@squarespace.com
DTSTAMP:20180723T012817Z
DTSTART:20180930T213000Z
DTEND:20181007T093000Z
SUMMARY:Mental Health Week
END:VEVENT
END:VCALENDAR
