BEGIN:VCALENDAR
VERSION:2.0
PRODID:-//Squarespace Inc/Squarespace 6//v6//EN
BEGIN:VEVENT
UID:5a66fe36ec212de43348424b@squarespace.com
DTSTAMP:20180123T092104Z
DTSTART:20180114T213000Z
DTEND:20180114T223000Z
SUMMARY:Community Hub re-opens - Sessions re-commence
END:VEVENT
END:VCALENDAR
